BEGIN:VCALENDAR
VERSION:2.0
PRODID:-//HJ Kalendarium //hj.se/kalendarium
X-WR-CALDESC:Kalender från Högskolan i Jönköping
X-WR-CALNAME:HJ Kalendarium
X-WR-TIMEZONE:Europe/Stockholm
X-APPLE-CALENDAR-COLOR:#5BC2F4
CALSCALE:GREGORIAN
BEGIN:VTIMEZONE
TZID:Europe/Stockholm
BEGIN:DAYLIGHT
TZOFFSETFROM:+0100
RRULE:FREQ=YEARLY;BYMONTH=3;BYDAY=-1SU
DTSTART:19810329T020000
TZNAME:GMT+02:00
TZOFFSETTO:+0200
END:DAYLIGHT
BEGIN:STANDARD
TZOFFSETFROM:+0100
RRULE:FREQ=YEARLY;BYMONTH=10;BYDAY=-1SU
DTSTART:19961027T030000
TZNAME:GMT+01:00
TZOFFSETTO:+0100
END:STANDARD
END:VTIMEZONE
BEGIN:VEVENT
UID:11920
DTSTART:2025-04-01T10:00:00
DURATION:PT1H0M0S
DTSTAMP:20250313T082241
SUMMARY:CeNSE Seminar
DESCRIPTION;ENCODING=QUOTED-PRINTABLE:
X-GWSHOW-AS:BUSY
TRANSP:OPAQUE
STATUS:CONFIRMED
LOCATION:B5002
RESOURCES:
END:VEVENT
BEGIN:VEVENT
UID:11889
DTSTART:2025-04-01T12:00:00
DURATION:PT1H0M0S
DTSTAMP:20250227T102534
SUMMARY:MMTC Digitalisation, Innovation and Transformation group
DESCRIPTION;ENCODING=QUOTED-PRINTABLE:
X-GWSHOW-AS:BUSY
TRANSP:OPAQUE
STATUS:CONFIRMED
LOCATION:B6046
RESOURCES:
END:VEVENT
BEGIN:VEVENT
UID:11886
DTSTART:2025-04-02T13:15:00
DURATION:PT1H30M0S
DTSTAMP:20250225T131359
SUMMARY:Data Methods Initiative seminar presented by Andrea Voyer
DESCRIPTION;ENCODING=QUOTED-PRINTABLE:
X-GWSHOW-AS:BUSY
TRANSP:OPAQUE
STATUS:CONFIRMED
LOCATION:Online-contact for zoom link
RESOURCES:
END:VEVENT
BEGIN:VEVENT
UID:11890
DTSTART:2025-04-07T10:00:00
DURATION:PT0H30M0S
DTSTAMP:20250227T102729
SUMMARY:Fika with MMTC guests from the University of Pretoria
DESCRIPTION;ENCODING=QUOTED-PRINTABLE:
X-GWSHOW-AS:BUSY
TRANSP:OPAQUE
STATUS:CONFIRMED
LOCATION:6th floor JIBS
RESOURCES:
END:VEVENT
BEGIN:VEVENT
UID:11936
DTSTART:2025-04-07T11:45:00
DURATION:PT1H0M0S
DTSTAMP:20250331T140822
SUMMARY:Brown Bag Seminar in Economics and Finance
DESCRIPTION;ENCODING=QUOTED-PRINTABLE:
X-GWSHOW-AS:BUSY
TRANSP:OPAQUE
STATUS:CONFIRMED
LOCATION:B5002
RESOURCES:
END:VEVENT
BEGIN:VEVENT
UID:11436
DTSTART:2025-04-09T00:00:00
DURATION:PT0H0M0S
DTSTAMP:20240905T094512
SUMMARY:10th Entrepreneurship-as-Practice Conference. 
DESCRIPTION;ENCODING=QUOTED-PRINTABLE:
X-GWSHOW-AS:BUSY
TRANSP:OPAQUE
STATUS:CONFIRMED
LOCATION:JIBS
RESOURCES:
END:VEVENT
BEGIN:VEVENT
UID:11940
DTSTART:2025-04-14T12:10:00
DURATION:PT1H0M0S
DTSTAMP:20250408T084934
SUMMARY:Brown Bag Seminar in Economics and Finance
DESCRIPTION;ENCODING=QUOTED-PRINTABLE:
X-GWSHOW-AS:BUSY
TRANSP:OPAQUE
STATUS:CONFIRMED
LOCATION:B5002
RESOURCES:
END:VEVENT
BEGIN:VEVENT
UID:11891
DTSTART:2025-04-16T12:00:00
DURATION:PT1H0M0S
DTSTAMP:20250328T113219
SUMMARY:MMTC research Seminar presented by guest Giulia Gogiali
DESCRIPTION;ENCODING=QUOTED-PRINTABLE:
X-GWSHOW-AS:BUSY
TRANSP:OPAQUE
STATUS:CONFIRMED
LOCATION:B6046 and online
RESOURCES:
END:VEVENT
BEGIN:VEVENT
UID:11892
DTSTART:2025-04-23T16:00:00
DURATION:PT2H0M0S
DTSTAMP:20250328T113149
SUMMARY:MMTC research Seminar presented by guests Miriam Bernhard and Jonas Weber
DESCRIPTION;ENCODING=QUOTED-PRINTABLE:
X-GWSHOW-AS:BUSY
TRANSP:OPAQUE
STATUS:CONFIRMED
LOCATION:B6046 and online
RESOURCES:
END:VEVENT
BEGIN:VEVENT
UID:11959
DTSTART:2025-04-28T12:10:00
DURATION:PT1H0M0S
DTSTAMP:20250416T151800
SUMMARY:Brown Bag Seminar in Economics and Finance
DESCRIPTION;ENCODING=QUOTED-PRINTABLE:
X-GWSHOW-AS:BUSY
TRANSP:OPAQUE
STATUS:CONFIRMED
LOCATION:B5002
RESOURCES:
END:VEVENT
END:VCALENDAR