BEGIN:VCALENDAR
VERSION:2.0
PRODID:-//HJ Kalendarium //hj.se/kalendarium
X-WR-CALDESC:Kalender från Högskolan i Jönköping
X-WR-CALNAME:HJ Kalendarium
X-WR-TIMEZONE:Europe/Stockholm
X-APPLE-CALENDAR-COLOR:#5BC2F4
CALSCALE:GREGORIAN
BEGIN:VTIMEZONE
TZID:Europe/Stockholm
BEGIN:DAYLIGHT
TZOFFSETFROM:+0100
RRULE:FREQ=YEARLY;BYMONTH=3;BYDAY=-1SU
DTSTART:19810329T020000
TZNAME:GMT+02:00
TZOFFSETTO:+0200
END:DAYLIGHT
BEGIN:STANDARD
TZOFFSETFROM:+0100
RRULE:FREQ=YEARLY;BYMONTH=10;BYDAY=-1SU
DTSTART:19961027T030000
TZNAME:GMT+01:00
TZOFFSETTO:+0100
END:STANDARD
END:VTIMEZONE
BEGIN:VEVENT
UID:12247
DTSTART:2026-03-02T08:30:00
DURATION:PT1H0M0S
DTSTAMP:20251110T144514
SUMMARY:MMTC breakfast meeting
DESCRIPTION;ENCODING=QUOTED-PRINTABLE:
X-GWSHOW-AS:BUSY
TRANSP:OPAQUE
STATUS:CONFIRMED
LOCATION:6th floor JIBS
RESOURCES:
END:VEVENT
BEGIN:VEVENT
UID:12230
DTSTART:2026-03-04T13:15:00
DURATION:PT1H30M0S
DTSTAMP:20260220T105238
SUMMARY:MMTCs DMI Research Seminar - Models, Misfires, and Meaningful Nulls: Computational Explorations in Platform Governance Research
DESCRIPTION;ENCODING=QUOTED-PRINTABLE:
X-GWSHOW-AS:BUSY
TRANSP:OPAQUE
STATUS:CONFIRMED
LOCATION:Online-contact for zoom link
RESOURCES:
END:VEVENT
BEGIN:VEVENT
UID:12395
DTSTART:2026-03-09T12:10:00
DURATION:PT1H0M0S
DTSTAMP:20260302T100941
SUMMARY:Brown Bag Seminar in Economics and Finance
DESCRIPTION;ENCODING=QUOTED-PRINTABLE:
X-GWSHOW-AS:BUSY
TRANSP:OPAQUE
STATUS:CONFIRMED
LOCATION:B5002
RESOURCES:
END:VEVENT
BEGIN:VEVENT
UID:12237
DTSTART:2026-03-18T12:00:00
DURATION:PT1H0M0S
DTSTAMP:20251110T143441
SUMMARY:MMTC research Seminar 
DESCRIPTION;ENCODING=QUOTED-PRINTABLE:
X-GWSHOW-AS:BUSY
TRANSP:OPAQUE
STATUS:CONFIRMED
LOCATION:B6046 and online
RESOURCES:
END:VEVENT
BEGIN:VEVENT
UID:12390
DTSTART:2026-03-18T12:00:00
DURATION:PT1H0M0S
DTSTAMP:20260225T101551
SUMMARY:MMTC research Seminar presented by Lucia Pizzichini - Tourist Sport Engagement in the Phygital Era: Linking Digital Sport Technologies and Revisit Intention
DESCRIPTION;ENCODING=QUOTED-PRINTABLE:
X-GWSHOW-AS:BUSY
TRANSP:OPAQUE
STATUS:CONFIRMED
LOCATION:B6046 and online
RESOURCES:
END:VEVENT
BEGIN:VEVENT
UID:12407
DTSTART:2026-03-23T12:10:00
DURATION:PT1H0M0S
DTSTAMP:20260316T135239
SUMMARY:Brown Bag Seminar in Economics and Finance
DESCRIPTION;ENCODING=QUOTED-PRINTABLE:
X-GWSHOW-AS:BUSY
TRANSP:OPAQUE
STATUS:CONFIRMED
LOCATION:B5002
RESOURCES:
END:VEVENT
BEGIN:VEVENT
UID:12389
DTSTART:2026-03-30T12:00:00
DURATION:PT1H0M0S
DTSTAMP:20260225T095325
SUMMARY:MMTC and CeFEO joint seminar
DESCRIPTION;ENCODING=QUOTED-PRINTABLE:
X-GWSHOW-AS:BUSY
TRANSP:OPAQUE
STATUS:CONFIRMED
LOCATION:Online-contact for zoom link
RESOURCES:
END:VEVENT
END:VCALENDAR