BEGIN:VCALENDAR
VERSION:2.0
PRODID:-//HJ Kalendarium //hj.se/kalendarium
X-WR-CALDESC:Kalender från Högskolan i Jönköping
X-WR-CALNAME:HJ Kalendarium
X-WR-TIMEZONE:Europe/Stockholm
X-APPLE-CALENDAR-COLOR:#5BC2F4
CALSCALE:GREGORIAN
BEGIN:VTIMEZONE
TZID:Europe/Stockholm
BEGIN:DAYLIGHT
TZOFFSETFROM:+0100
RRULE:FREQ=YEARLY;BYMONTH=3;BYDAY=-1SU
DTSTART:19810329T020000
TZNAME:GMT+02:00
TZOFFSETTO:+0200
END:DAYLIGHT
BEGIN:STANDARD
TZOFFSETFROM:+0100
RRULE:FREQ=YEARLY;BYMONTH=10;BYDAY=-1SU
DTSTART:19961027T030000
TZNAME:GMT+01:00
TZOFFSETTO:+0100
END:STANDARD
END:VTIMEZONE
BEGIN:VEVENT
UID:12246
DTSTART:2026-02-02T08:30:00
DURATION:PT1H0M0S
DTSTAMP:20251110T144416
SUMMARY:MMTC breakfast meeting
DESCRIPTION;ENCODING=QUOTED-PRINTABLE:
X-GWSHOW-AS:BUSY
TRANSP:OPAQUE
STATUS:CONFIRMED
LOCATION:6th floor JIBS
RESOURCES:
END:VEVENT
BEGIN:VEVENT
UID:12229
DTSTART:2026-02-04T13:15:00
DURATION:PT1H30M0S
DTSTAMP:20251110T141938
SUMMARY:MMTC's Data Methods Initiative seminar - online
DESCRIPTION;ENCODING=QUOTED-PRINTABLE:
X-GWSHOW-AS:BUSY
TRANSP:OPAQUE
STATUS:CONFIRMED
LOCATION:Online-contact for zoom link
RESOURCES:
END:VEVENT
BEGIN:VEVENT
UID:12381
DTSTART:2026-02-16T12:10:00
DURATION:PT1H0M0S
DTSTAMP:20260210T113213
SUMMARY:Brown Bag Seminar in Economics and Finance
DESCRIPTION;ENCODING=QUOTED-PRINTABLE:
X-GWSHOW-AS:BUSY
TRANSP:OPAQUE
STATUS:CONFIRMED
LOCATION:B5002
RESOURCES:
END:VEVENT
BEGIN:VEVENT
UID:12294
DTSTART:2026-02-18T12:00:00
DURATION:PT1H0M0S
DTSTAMP:20251208T112220
SUMMARY:MMTC research Seminar presented by Timur Uman, Miguel Gil and Mart Ots
DESCRIPTION;ENCODING=QUOTED-PRINTABLE:
X-GWSHOW-AS:BUSY
TRANSP:OPAQUE
STATUS:CONFIRMED
LOCATION:B6046 and online
RESOURCES:
END:VEVENT
BEGIN:VEVENT
UID:12387
DTSTART:2026-02-23T12:10:00
DURATION:PT1H0M0S
DTSTAMP:20260217T095003
SUMMARY:Brown Bag Seminar in Economics and Finance
DESCRIPTION;ENCODING=QUOTED-PRINTABLE:
X-GWSHOW-AS:BUSY
TRANSP:OPAQUE
STATUS:CONFIRMED
LOCATION:B5002
RESOURCES:
END:VEVENT
END:VCALENDAR