BEGIN:VCALENDAR
VERSION:2.0
PRODID:-//HJ Kalendarium //hj.se/kalendarium
X-WR-CALDESC:Kalender från Högskolan i Jönköping
X-WR-CALNAME:HJ Kalendarium
X-WR-TIMEZONE:Europe/Stockholm
X-APPLE-CALENDAR-COLOR:#5BC2F4
CALSCALE:GREGORIAN
BEGIN:VTIMEZONE
TZID:Europe/Stockholm
BEGIN:DAYLIGHT
TZOFFSETFROM:+0100
RRULE:FREQ=YEARLY;BYMONTH=3;BYDAY=-1SU
DTSTART:19810329T020000
TZNAME:GMT+02:00
TZOFFSETTO:+0200
END:DAYLIGHT
BEGIN:STANDARD
TZOFFSETFROM:+0100
RRULE:FREQ=YEARLY;BYMONTH=10;BYDAY=-1SU
DTSTART:19961027T030000
TZNAME:GMT+01:00
TZOFFSETTO:+0100
END:STANDARD
END:VTIMEZONE
BEGIN:VEVENT
UID:11838
DTSTART:2025-02-03T12:00:00
DURATION:PT1H0M0S
DTSTAMP:20250123T152345
SUMMARY:CeFEO Research seminar
DESCRIPTION;ENCODING=QUOTED-PRINTABLE:
X-GWSHOW-AS:BUSY
TRANSP:OPAQUE
STATUS:CONFIRMED
LOCATION:B6046
RESOURCES:
END:VEVENT
BEGIN:VEVENT
UID:11843
DTSTART:2025-02-03T12:10:00
DURATION:PT1H0M0S
DTSTAMP:20250128T091612
SUMMARY:Brown Bag Seminar in Economics and Finance
DESCRIPTION;ENCODING=QUOTED-PRINTABLE:
X-GWSHOW-AS:BUSY
TRANSP:OPAQUE
STATUS:CONFIRMED
LOCATION:B5002
RESOURCES:
END:VEVENT
BEGIN:VEVENT
UID:11777
DTSTART:2025-02-04T12:00:00
DURATION:PT1H0M0S
DTSTAMP:20241213T142841
SUMMARY:MMTC working group focused on Digital business and innovation
DESCRIPTION;ENCODING=QUOTED-PRINTABLE:
X-GWSHOW-AS:BUSY
TRANSP:OPAQUE
STATUS:CONFIRMED
LOCATION:B6046
RESOURCES:
END:VEVENT
BEGIN:VEVENT
UID:11778
DTSTART:2025-02-05T12:00:00
DURATION:PT1H0M0S
DTSTAMP:20241213T143011
SUMMARY:MMTC working group focused on Media
DESCRIPTION;ENCODING=QUOTED-PRINTABLE:
X-GWSHOW-AS:BUSY
TRANSP:OPAQUE
STATUS:CONFIRMED
LOCATION:B6046
RESOURCES:
END:VEVENT
BEGIN:VEVENT
UID:11670
DTSTART:2025-02-05T13:15:00
DURATION:PT1H30M0S
DTSTAMP:20241007T112944
SUMMARY:MMTC/ Data Methods Initiative seminar presented by Jason Burton
DESCRIPTION;ENCODING=QUOTED-PRINTABLE:
X-GWSHOW-AS:BUSY
TRANSP:OPAQUE
STATUS:CONFIRMED
LOCATION:Online-contact for zoom link
RESOURCES:
END:VEVENT
BEGIN:VEVENT
UID:11848
DTSTART:2025-02-10T12:10:00
DURATION:PT1H0M0S
DTSTAMP:20250204T080433
SUMMARY:Brown Bag Seminar in Economics and Finance
DESCRIPTION;ENCODING=QUOTED-PRINTABLE:
X-GWSHOW-AS:BUSY
TRANSP:OPAQUE
STATUS:CONFIRMED
LOCATION:B5002
RESOURCES:
END:VEVENT
BEGIN:VEVENT
UID:11858
DTSTART:2025-02-17T12:10:00
DURATION:PT1H0M0S
DTSTAMP:20250210T135137
SUMMARY:Brown Bag Seminar in Economics and Finance
DESCRIPTION;ENCODING=QUOTED-PRINTABLE:
X-GWSHOW-AS:BUSY
TRANSP:OPAQUE
STATUS:CONFIRMED
LOCATION:B5002
RESOURCES:
END:VEVENT
BEGIN:VEVENT
UID:11854
DTSTART:2025-02-19T12:00:00
DURATION:PT1H0M0S
DTSTAMP:20250206T084602
SUMMARY:MMTC resarch Seminar presented by Gonzalo Luna-Cortes
DESCRIPTION;ENCODING=QUOTED-PRINTABLE:
X-GWSHOW-AS:BUSY
TRANSP:OPAQUE
STATUS:CONFIRMED
LOCATION:B6046 and online
RESOURCES:
END:VEVENT
BEGIN:VEVENT
UID:11845
DTSTART:2025-02-19T17:00:00
DURATION:PT3H0M0S
DTSTAMP:20250130T154030
SUMMARY:MMTC information meeting and AW
DESCRIPTION;ENCODING=QUOTED-PRINTABLE:
X-GWSHOW-AS:BUSY
TRANSP:OPAQUE
STATUS:CONFIRMED
LOCATION:6th floor lounge
RESOURCES:
END:VEVENT
BEGIN:VEVENT
UID:11847
DTSTART:2025-02-24T12:00:00
DURATION:PT1H0M0S
DTSTAMP:20250203T162901
SUMMARY:CeFEO Research seminar
DESCRIPTION;ENCODING=QUOTED-PRINTABLE:
X-GWSHOW-AS:BUSY
TRANSP:OPAQUE
STATUS:CONFIRMED
LOCATION:B7030
RESOURCES:
END:VEVENT
BEGIN:VEVENT
UID:11864
DTSTART:2025-02-24T12:10:00
DURATION:PT1H0M0S
DTSTAMP:20250218T081144
SUMMARY:Brown Bag Seminar in Economics and Finance
DESCRIPTION;ENCODING=QUOTED-PRINTABLE:
X-GWSHOW-AS:BUSY
TRANSP:OPAQUE
STATUS:CONFIRMED
LOCATION:B5002
RESOURCES:
END:VEVENT
BEGIN:VEVENT
UID:11872
DTSTART:2025-02-26T08:30:00
DURATION:PT0H30M0S
DTSTAMP:20250221T134620
SUMMARY:Informationsmöte Family Entrepreneurships Schools Tournament 
DESCRIPTION;ENCODING=QUOTED-PRINTABLE:
X-GWSHOW-AS:BUSY
TRANSP:OPAQUE
STATUS:CONFIRMED
LOCATION:https://ju-se.zoom.us/webinar/register/WN_f3qDWsI9
RESOURCES:
END:VEVENT
BEGIN:VEVENT
UID:11873
DTSTART:2025-02-28T08:30:00
DURATION:PT0H30M0S
DTSTAMP:20250221T134903
SUMMARY:Informationsmöte Family Entrepreneurship Schools Tournament
DESCRIPTION;ENCODING=QUOTED-PRINTABLE:
X-GWSHOW-AS:BUSY
TRANSP:OPAQUE
STATUS:CONFIRMED
LOCATION:https://ju-se.zoom.us/webinar/register/WN_f3qDWsI9
RESOURCES:
END:VEVENT
END:VCALENDAR