BEGIN:VCALENDAR
VERSION:2.0
PRODID:-//HJ Kalendarium //hj.se/kalendarium
X-WR-CALDESC:Kalender från Högskolan i Jönköping
X-WR-CALNAME:HJ Kalendarium
X-WR-TIMEZONE:Europe/Stockholm
X-APPLE-CALENDAR-COLOR:#5BC2F4
CALSCALE:GREGORIAN
BEGIN:VTIMEZONE
TZID:Europe/Stockholm
BEGIN:DAYLIGHT
TZOFFSETFROM:+0100
RRULE:FREQ=YEARLY;BYMONTH=3;BYDAY=-1SU
DTSTART:19810329T020000
TZNAME:GMT+02:00
TZOFFSETTO:+0200
END:DAYLIGHT
BEGIN:STANDARD
TZOFFSETFROM:+0100
RRULE:FREQ=YEARLY;BYMONTH=10;BYDAY=-1SU
DTSTART:19961027T030000
TZNAME:GMT+01:00
TZOFFSETTO:+0100
END:STANDARD
END:VTIMEZONE
BEGIN:VEVENT
UID:12029
DTSTART:2025-10-01T08:30:00
DURATION:PT10H30M0S
DTSTAMP:20250804T111550
SUMMARY:Ägarlyftet - CeFEO 20 år
DESCRIPTION;ENCODING=QUOTED-PRINTABLE:
X-GWSHOW-AS:BUSY
TRANSP:OPAQUE
STATUS:CONFIRMED
LOCATION:Werket
RESOURCES:
END:VEVENT
BEGIN:VEVENT
UID:12075
DTSTART:2025-10-01T13:15:00
DURATION:PT1H30M0S
DTSTAMP:20250826T123128
SUMMARY:Data Methods Initiative seminar presented by Simona Bisiani
DESCRIPTION;ENCODING=QUOTED-PRINTABLE:
X-GWSHOW-AS:BUSY
TRANSP:OPAQUE
STATUS:CONFIRMED
LOCATION:Online-contact for zoom link
RESOURCES:
END:VEVENT
BEGIN:VEVENT
UID:11731
DTSTART:2025-10-02T01:00:00
DURATION:PT17H0M0S
DTSTAMP:20250804T110904
SUMMARY:EIASM Workshop on Family Firm Management Research: Echoes from the Past, Foundation for the Future: Legacy as a Catalyst in Family Entrepreneurship
DESCRIPTION;ENCODING=QUOTED-PRINTABLE:
X-GWSHOW-AS:BUSY
TRANSP:OPAQUE
STATUS:CONFIRMED
LOCATION:JIBS
RESOURCES:
END:VEVENT
BEGIN:VEVENT
UID:12010
DTSTART:2025-10-06T08:30:00
DURATION:PT1H0M0S
DTSTAMP:20250612T131100
SUMMARY:MMTC breakfast meeting
DESCRIPTION;ENCODING=QUOTED-PRINTABLE:
X-GWSHOW-AS:BUSY
TRANSP:OPAQUE
STATUS:CONFIRMED
LOCATION:6th floor JIBS
RESOURCES:
END:VEVENT
BEGIN:VEVENT
UID:12145
DTSTART:2025-10-06T12:10:00
DURATION:PT1H0M0S
DTSTAMP:20250930T082404
SUMMARY:Brown Bag Seminar in Economics and Finance
DESCRIPTION;ENCODING=QUOTED-PRINTABLE:
X-GWSHOW-AS:BUSY
TRANSP:OPAQUE
STATUS:CONFIRMED
LOCATION:B5002
RESOURCES:
END:VEVENT
BEGIN:VEVENT
UID:12146
DTSTART:2025-10-08T12:00:00
DURATION:PT1H0M0S
DTSTAMP:20250930T110651
SUMMARY:MMTC research seminar with Giovanna Attanasio and Cinzia Battistella from University of Udine, Italy.  
DESCRIPTION;ENCODING=QUOTED-PRINTABLE:
X-GWSHOW-AS:BUSY
TRANSP:OPAQUE
STATUS:CONFIRMED
LOCATION:Online-contact for zoom link
RESOURCES:
END:VEVENT
BEGIN:VEVENT
UID:12157
DTSTART:2025-10-13T12:10:00
DURATION:PT1H0M0S
DTSTAMP:20251006T163412
SUMMARY:Brown Bag Seminar in Economics and Finance
DESCRIPTION;ENCODING=QUOTED-PRINTABLE:
X-GWSHOW-AS:BUSY
TRANSP:OPAQUE
STATUS:CONFIRMED
LOCATION:B5002
RESOURCES:
END:VEVENT
BEGIN:VEVENT
UID:12154
DTSTART:2025-10-15T12:00:00
DURATION:PT1H0M0S
DTSTAMP:20251006T042405
SUMMARY:MMTC research Seminar presented by guest Cinzia Battistella (University of Udine, Italy)
DESCRIPTION;ENCODING=QUOTED-PRINTABLE:
X-GWSHOW-AS:BUSY
TRANSP:OPAQUE
STATUS:CONFIRMED
LOCATION:Online-contact for zoom link
RESOURCES:
END:VEVENT
BEGIN:VEVENT
UID:12165
DTSTART:2025-10-20T12:00:00
DURATION:PT1H0M0S
DTSTAMP:20251008T151415
SUMMARY:MMTC R&R seminar with Maria Arango Kure and Mart Ots
DESCRIPTION;ENCODING=QUOTED-PRINTABLE:
X-GWSHOW-AS:BUSY
TRANSP:OPAQUE
STATUS:CONFIRMED
LOCATION:B6046 and online
RESOURCES:
END:VEVENT
BEGIN:VEVENT
UID:12178
DTSTART:2025-10-20T12:10:00
DURATION:PT1H0M0S
DTSTAMP:20251015T074905
SUMMARY:Brown Bag Seminar in Economics and Finance
DESCRIPTION;ENCODING=QUOTED-PRINTABLE:
X-GWSHOW-AS:BUSY
TRANSP:OPAQUE
STATUS:CONFIRMED
LOCATION:B5002
RESOURCES:
END:VEVENT
BEGIN:VEVENT
UID:12153
DTSTART:2025-10-22T12:00:00
DURATION:PT1H0M0S
DTSTAMP:20251006T041250
SUMMARY:MMTC research Seminar presented by Mark Edwards
DESCRIPTION;ENCODING=QUOTED-PRINTABLE:
X-GWSHOW-AS:BUSY
TRANSP:OPAQUE
STATUS:CONFIRMED
LOCATION:B6046 and online
RESOURCES:
END:VEVENT
END:VCALENDAR