BEGIN:VCALENDAR
VERSION:2.0
PRODID:-//HJ Kalendarium //hj.se/kalendarium
X-WR-CALDESC:Kalender från Högskolan i Jönköping
X-WR-CALNAME:HJ Kalendarium
X-WR-TIMEZONE:Europe/Stockholm
X-APPLE-CALENDAR-COLOR:#5BC2F4
CALSCALE:GREGORIAN
BEGIN:VTIMEZONE
TZID:Europe/Stockholm
BEGIN:DAYLIGHT
TZOFFSETFROM:+0100
RRULE:FREQ=YEARLY;BYMONTH=3;BYDAY=-1SU
DTSTART:19810329T020000
TZNAME:GMT+02:00
TZOFFSETTO:+0200
END:DAYLIGHT
BEGIN:STANDARD
TZOFFSETFROM:+0100
RRULE:FREQ=YEARLY;BYMONTH=10;BYDAY=-1SU
DTSTART:19961027T030000
TZNAME:GMT+01:00
TZOFFSETTO:+0100
END:STANDARD
END:VTIMEZONE
BEGIN:VEVENT
UID:11772
DTSTART:2025-01-13T12:00:00
DURATION:PT1H0M0S
DTSTAMP:20241213T142100
SUMMARY:MMTC Working Group focused on Municipal Corporation
DESCRIPTION;ENCODING=QUOTED-PRINTABLE:
X-GWSHOW-AS:BUSY
TRANSP:OPAQUE
STATUS:CONFIRMED
LOCATION:B6046 
RESOURCES:
END:VEVENT
BEGIN:VEVENT
UID:11798
DTSTART:2025-01-13T12:10:00
DURATION:PT1H0M0S
DTSTAMP:20250108T073555
SUMMARY:Brown Bag Seminar in Economics and Finance
DESCRIPTION;ENCODING=QUOTED-PRINTABLE:
X-GWSHOW-AS:BUSY
TRANSP:OPAQUE
STATUS:CONFIRMED
LOCATION:B5002
RESOURCES:
END:VEVENT
BEGIN:VEVENT
UID:11773
DTSTART:2025-01-14T12:00:00
DURATION:PT1H0M0S
DTSTAMP:20241213T142202
SUMMARY:MMTC working group focused on Esports.
DESCRIPTION;ENCODING=QUOTED-PRINTABLE:
X-GWSHOW-AS:BUSY
TRANSP:OPAQUE
STATUS:CONFIRMED
LOCATION:B6046
RESOURCES:
END:VEVENT
BEGIN:VEVENT
UID:11774
DTSTART:2025-01-15T12:00:00
DURATION:PT1H0M0S
DTSTAMP:20241213T142300
SUMMARY:MMTC Sustainability working group
DESCRIPTION;ENCODING=QUOTED-PRINTABLE:
X-GWSHOW-AS:BUSY
TRANSP:OPAQUE
STATUS:CONFIRMED
LOCATION:B6046
RESOURCES:
END:VEVENT
BEGIN:VEVENT
UID:11775
DTSTART:2025-01-16T10:00:00
DURATION:PT7H0M0S
DTSTAMP:20241213T142407
SUMMARY:Feedback Sessions for Funding Applications
DESCRIPTION;ENCODING=QUOTED-PRINTABLE:
X-GWSHOW-AS:BUSY
TRANSP:OPAQUE
STATUS:CONFIRMED
LOCATION:B6046
RESOURCES:
END:VEVENT
BEGIN:VEVENT
UID:11808
DTSTART:2025-01-20T12:10:00
DURATION:PT1H0M0S
DTSTAMP:20250114T133830
SUMMARY:Brown Bag Seminar in Economics and Finance
DESCRIPTION;ENCODING=QUOTED-PRINTABLE:
X-GWSHOW-AS:BUSY
TRANSP:OPAQUE
STATUS:CONFIRMED
LOCATION:B5002
RESOURCES:
END:VEVENT
BEGIN:VEVENT
UID:11809
DTSTART:2025-01-22T12:00:00
DURATION:PT1H0M0S
DTSTAMP:20250115T101241
SUMMARY:MMTC seminar presented by  Brian McCauley
DESCRIPTION;ENCODING=QUOTED-PRINTABLE:
X-GWSHOW-AS:BUSY
TRANSP:OPAQUE
STATUS:CONFIRMED
LOCATION:B6046 and online
RESOURCES:
END:VEVENT
BEGIN:VEVENT
UID:11834
DTSTART:2025-01-27T12:10:00
DURATION:PT1H0M0S
DTSTAMP:20250120T140805
SUMMARY:Brown Bag Seminar in Economics and Finance
DESCRIPTION;ENCODING=QUOTED-PRINTABLE:
X-GWSHOW-AS:BUSY
TRANSP:OPAQUE
STATUS:CONFIRMED
LOCATION:B5002
RESOURCES:
END:VEVENT
BEGIN:VEVENT
UID:11776
DTSTART:2025-01-28T12:00:00
DURATION:PT1H0M0S
DTSTAMP:20241213T142550
SUMMARY:MMTC working group focused on Diversity and Inclusion
DESCRIPTION;ENCODING=QUOTED-PRINTABLE:
X-GWSHOW-AS:BUSY
TRANSP:OPAQUE
STATUS:CONFIRMED
LOCATION:B6046
RESOURCES:
END:VEVENT
BEGIN:VEVENT
UID:11680
DTSTART:2025-01-30T08:00:00
DURATION:PT9H0M0S
DTSTAMP:20250127T082538
SUMMARY:  Second MMTC symposium on responsible digital innovation.
DESCRIPTION;ENCODING=QUOTED-PRINTABLE:
X-GWSHOW-AS:BUSY
TRANSP:OPAQUE
STATUS:CONFIRMED
LOCATION:B3008
RESOURCES:
END:VEVENT
END:VCALENDAR